0.5
0
0
-0.5
573551.358707786
4708072.90424091
