0.5
0
0
-0.5
607672.894458962
4715467.31770523
