0.5
0
0
-0.5
634894.334608225
4722892.59816328
