0.5
0
0
-0.5
645143.598120764
4723102.4927263
