0.5
0
0
-0.5
563303.715780913
4705656.25089538
