0.5
0
0
-0.5
601072.1427769
4699170.32657604
