0.5
0
0
-0.5
611467.358904298
4692389.75672336
