0.5
0
0
-0.5
597776.035739444
4689868.06363027
