0.5
0
0
-0.5
659290.639462906
4702584.68953809
