0.5
0
0
-0.5
652488.431261493
4700116.52709921
