0.5
0
0
-0.5
601242.189072996
4687604.51900786
