0.5
0
0
-0.5
604745.690064097
4683029.47519791
