0.5
0
0
-0.5
632274.932389617
4681186.86066368
