0.5
0
0
-0.5
591277.633205619
4662016.46023231
