0.5
0
0
-0.5
604990.869148373
4666837.51399061
