0.5
0
0
-0.5
598136.53295829
4664423.59571621
