0.5
0
0
-0.5
611989.587167093
4660005.76245267
