1
0
0
-1
640961.910887281
4757824.94597896
