1
0
0
-1
641059.415157791
4753198.2759021
