1
0
0
-1
668390.655009737
4749198.64899314
