1
0
0
-1
668506.621332539
4744571.93156727
