1
0
0
-1
648575.437959292
4720958.24554032
