1
0
0
-1
594339.482993867
4687589.55770504
