1
0
0
-1
622305.494144886
4660268.97114341
