1
0
0
-1
606365.609337386
4794210.3304721
