1
0
0
-1
626654.249312571
4794569.42166921
