1
0
0
-1
613446.727189032
4775814.60325241
