2.5
0
0
-2.5
566095.952162084
4752205.17870544
