2.5
0
0
-2.5
661838.068179483
4735372.78546206
