2.5
0
0
-2.5
566586.086820364
4705938.80076684
