2.5
0
0
-2.5
635293.964865336
4697745.95205032
