2.5
0
0
-2.5
636044.391783413
4660735.0036208
