0.5
0
0
-0.5
583163.695725441
4761398.81475212
