0.5
0
0
-0.5
569745.250417863
4745050.0116379
