0.5
0
0
-0.5
617252.405762901
4754963.67406471
