0.5
0
0
-0.5
603686.947770927
4752427.89317036
