0.5
0
0
-0.5
603722.470957765
4750114.46214462
