0.5
0
0
-0.5
596983.884261633
4745386.51763354
