0.5
0
0
-0.5
637560.576493309
4759974.21965592
