0.5
0
0
-0.5
641055.021666049
4755417.31028417
