0.5
0
0
-0.5
624137.841737645
4750458.07190537
