0.5
0
0
-0.5
658163.883438338
4751165.62544676
