0.5
0
0
-0.5
658271.714112752
4746539.01585823
