0.5
0
0
-0.5
559551.223192159
4742638.38148055
