0.5
0
0
-0.5
573175.26509416
4742772.75630989
