0.5
0
0
-0.5
566477.649016065
4731135.18658726
