0.5
0
0
-0.5
566500.492961805
4728821.8076626
