0.5
0
0
-0.5
587006.855175358
4726740.70735153
