0.5
0
0
-0.5
614241.01636748
4731771.63518197
