0.5
0
0
-0.5
627714.45471278
4741267.72903096
